BEGIN:VCALENDAR
VERSION:2.0
PRODID:-//Washington County Economic Development - ECPv6.15.15//NONSGML v1.0//EN
CALSCALE:GREGORIAN
METHOD:PUBLISH
X-WR-CALNAME:Washington County Economic Development
X-ORIGINAL-URL:https://washingtoncountyksed.com
X-WR-CALDESC:Events for Washington County Economic Development
REFRESH-INTERVAL;VALUE=DURATION:PT1H
X-Robots-Tag:noindex
X-PUBLISHED-TTL:PT1H
BEGIN:VTIMEZONE
TZID:America/Chicago
BEGIN:DAYLIGHT
TZOFFSETFROM:-0600
TZOFFSETTO:-0500
TZNAME:CDT
DTSTART:20290311T080000
END:DAYLIGHT
BEGIN:STANDARD
TZOFFSETFROM:-0500
TZOFFSETTO:-0600
TZNAME:CST
DTSTART:20291104T070000
END:STANDARD
BEGIN:DAYLIGHT
TZOFFSETFROM:-0600
TZOFFSETTO:-0500
TZNAME:CDT
DTSTART:20300310T080000
END:DAYLIGHT
BEGIN:STANDARD
TZOFFSETFROM:-0500
TZOFFSETTO:-0600
TZNAME:CST
DTSTART:20301103T070000
END:STANDARD
BEGIN:DAYLIGHT
TZOFFSETFROM:-0600
TZOFFSETTO:-0500
TZNAME:CDT
DTSTART:20310309T080000
END:DAYLIGHT
BEGIN:STANDARD
TZOFFSETFROM:-0500
TZOFFSETTO:-0600
TZNAME:CST
DTSTART:20311102T070000
END:STANDARD
END:VTIMEZONE
BEGIN:VEVENT
DTSTART;VALUE=DATE:20300915
DTEND;VALUE=DATE:20300916
DTSTAMP:20260420T020413
CREATED:20260114T200742Z
LAST-MODIFIED:20260114T200743Z
UID:10000106-1915660800-1915747199@washingtoncountyksed.com
SUMMARY:Washington Fall Fest
DESCRIPTION:Washington Fall Fest — Washington\, Kansas \nWashington Fall Fest is a lively fall community celebration held each September in Washington\, Kansas. This seasonal event brings together families\, car enthusiasts\, and community members for a day of autumn fun\, classic cars\, friendly activities\, and small-town charm. \nOne of the centerpiece attractions is the Fall Fest Car & Truck Show\, where vintage and modern vehicles line the streets around downtown Washington for visitors to admire. Participants can register their cars\, enjoy friendly competition across multiple classes\, and take part in fun prize drawings. \nBeyond the car show\, the festival offers food vendors\, kid-friendly activities like inflatables and games\, raffles\, and other fall-themed fun. With something for all ages\, Fall Fest captures the seasonal spirit and brings the community together for a memorable day celebrating autumn in northeast Kansas.
URL:https://washingtoncountyksed.com/event/washington-fall-fest-2/2030-09-15/
LOCATION:Washington County\, 214 C St\, Washington\, KS\, 66968\, United States
CATEGORIES:Fall Fest
END:VEVENT
END:VCALENDAR