BEGIN:VCALENDAR
VERSION:2.0
PRODID:-//Washington County Economic Development - ECPv6.15.15//NONSGML v1.0//EN
CALSCALE:GREGORIAN
METHOD:PUBLISH
X-WR-CALNAME:Washington County Economic Development
X-ORIGINAL-URL:https://washingtoncountyksed.com
X-WR-CALDESC:Events for Washington County Economic Development
REFRESH-INTERVAL;VALUE=DURATION:PT1H
X-Robots-Tag:noindex
X-PUBLISHED-TTL:PT1H
BEGIN:VTIMEZONE
TZID:America/Chicago
BEGIN:DAYLIGHT
TZOFFSETFROM:-0600
TZOFFSETTO:-0500
TZNAME:CDT
DTSTART:20290311T080000
END:DAYLIGHT
BEGIN:STANDARD
TZOFFSETFROM:-0500
TZOFFSETTO:-0600
TZNAME:CST
DTSTART:20291104T070000
END:STANDARD
BEGIN:DAYLIGHT
TZOFFSETFROM:-0600
TZOFFSETTO:-0500
TZNAME:CDT
DTSTART:20300310T080000
END:DAYLIGHT
BEGIN:STANDARD
TZOFFSETFROM:-0500
TZOFFSETTO:-0600
TZNAME:CST
DTSTART:20301103T070000
END:STANDARD
BEGIN:DAYLIGHT
TZOFFSETFROM:-0600
TZOFFSETTO:-0500
TZNAME:CDT
DTSTART:20310309T080000
END:DAYLIGHT
BEGIN:STANDARD
TZOFFSETFROM:-0500
TZOFFSETTO:-0600
TZNAME:CST
DTSTART:20311102T070000
END:STANDARD
END:VTIMEZONE
BEGIN:VEVENT
DTSTART;VALUE=DATE:20301207
DTEND;VALUE=DATE:20301208
DTSTAMP:20260420T021222
CREATED:20250508T071428Z
LAST-MODIFIED:20260114T201614Z
UID:10000107-1922832000-1922918399@washingtoncountyksed.com
SUMMARY:Santas Gifts & Goodies
DESCRIPTION:Santa’s Gifts & Goodies — Washington\, Kansas \nSanta’s Gifts & Goodies is a festive\, all-ages holiday event held each first Saturday in December in Washington\, Kansas. This seasonal celebration offers a wonderful way for families and friends to enjoy the magic of the holidays while supporting local businesses and community spirit. \nThroughout the day\, the streets and venues of Washington are filled with craft vendors\, local businesses hosting open houses\, and unique holiday shopping opportunities — perfect for finding special gifts and goodies for everyone on your list. Adventurers can “weave through Washington” visiting multiple locations that showcase handmade items\, holiday treats\, and creative crafts. \nNo holiday celebration in Washington would be complete without a stop for a Lions Club pancake feed\, a beloved tradition that draws locals together over delicious breakfast favorites. Later in the afternoon\, Santa Claus makes a cheerful appearance\, greeting families and adding extra holiday magic to the festivities. \nWhether you’re checking items off your Christmas list\, enjoying seasonal food and treats\, or just soaking up the warm community atmosphere\, Santa’s Gifts & Goodies is a cherished way to kick off the holiday season in Washington.
URL:https://washingtoncountyksed.com/event/santas-gifts-goodies/2030-12-07/
CATEGORIES:Santas Gifts & Goodies
ATTACH;FMTTYPE=image/png:https://washingtoncountyksed.com/wp-content/uploads/2025/10/Santas-Gifts-Goodies.png
END:VEVENT
END:VCALENDAR