BEGIN:VCALENDAR
VERSION:2.0
PRODID:-//Washington County Economic Development - ECPv6.15.15//NONSGML v1.0//EN
CALSCALE:GREGORIAN
METHOD:PUBLISH
X-WR-CALNAME:Washington County Economic Development
X-ORIGINAL-URL:https://washingtoncountyksed.com
X-WR-CALDESC:Events for Washington County Economic Development
REFRESH-INTERVAL;VALUE=DURATION:PT1H
X-Robots-Tag:noindex
X-PUBLISHED-TTL:PT1H
BEGIN:VTIMEZONE
TZID:America/Chicago
BEGIN:DAYLIGHT
TZOFFSETFROM:-0600
TZOFFSETTO:-0500
TZNAME:CDT
DTSTART:20240310T080000
END:DAYLIGHT
BEGIN:STANDARD
TZOFFSETFROM:-0500
TZOFFSETTO:-0600
TZNAME:CST
DTSTART:20241103T070000
END:STANDARD
BEGIN:DAYLIGHT
TZOFFSETFROM:-0600
TZOFFSETTO:-0500
TZNAME:CDT
DTSTART:20250309T080000
END:DAYLIGHT
BEGIN:STANDARD
TZOFFSETFROM:-0500
TZOFFSETTO:-0600
TZNAME:CST
DTSTART:20251102T070000
END:STANDARD
BEGIN:DAYLIGHT
TZOFFSETFROM:-0600
TZOFFSETTO:-0500
TZNAME:CDT
DTSTART:20260308T080000
END:DAYLIGHT
BEGIN:STANDARD
TZOFFSETFROM:-0500
TZOFFSETTO:-0600
TZNAME:CST
DTSTART:20261101T070000
END:STANDARD
END:VTIMEZONE
BEGIN:VEVENT
DTSTART;VALUE=DATE:20250711
DTEND;VALUE=DATE:20250713
DTSTAMP:20260420T051418
CREATED:20250508T064250Z
LAST-MODIFIED:20260114T193520Z
UID:656-1752192000-1752364799@washingtoncountyksed.com
SUMMARY:Linn Picnic
DESCRIPTION:Held annually in Linn. The highlight of this event is the Demolition Derby. Featuring drivers from all over the U.S.\, this event packs the stands every year. They also have kids’ games\, beer garden\, and live music. Don’t forget about the parade as well. \nDates: July 11th & 12th \nFacebook: https://www.facebook.com/CityOfLinnKS
URL:https://washingtoncountyksed.com/event/linn-picnic/
CATEGORIES:Linn Picnic
ATTACH;FMTTYPE=image/jpeg:https://washingtoncountyksed.com/wp-content/uploads/2026/01/Linn-Picnic.jpg
END:VEVENT
END:VCALENDAR