BEGIN:VCALENDAR
VERSION:2.0
PRODID:-//Washington County Economic Development - ECPv6.15.15//NONSGML v1.0//EN
CALSCALE:GREGORIAN
METHOD:PUBLISH
X-WR-CALNAME:Washington County Economic Development
X-ORIGINAL-URL:https://washingtoncountyksed.com
X-WR-CALDESC:Events for Washington County Economic Development
REFRESH-INTERVAL;VALUE=DURATION:PT1H
X-Robots-Tag:noindex
X-PUBLISHED-TTL:PT1H
BEGIN:VTIMEZONE
TZID:America/Chicago
BEGIN:DAYLIGHT
TZOFFSETFROM:-0600
TZOFFSETTO:-0500
TZNAME:CDT
DTSTART:20280312T080000
END:DAYLIGHT
BEGIN:STANDARD
TZOFFSETFROM:-0500
TZOFFSETTO:-0600
TZNAME:CST
DTSTART:20281105T070000
END:STANDARD
BEGIN:DAYLIGHT
TZOFFSETFROM:-0600
TZOFFSETTO:-0500
TZNAME:CDT
DTSTART:20290311T080000
END:DAYLIGHT
BEGIN:STANDARD
TZOFFSETFROM:-0500
TZOFFSETTO:-0600
TZNAME:CST
DTSTART:20291104T070000
END:STANDARD
BEGIN:DAYLIGHT
TZOFFSETFROM:-0600
TZOFFSETTO:-0500
TZNAME:CDT
DTSTART:20300310T080000
END:DAYLIGHT
BEGIN:STANDARD
TZOFFSETFROM:-0500
TZOFFSETTO:-0600
TZNAME:CST
DTSTART:20301103T070000
END:STANDARD
END:VTIMEZONE
BEGIN:VEVENT
DTSTART;VALUE=DATE:20290710
DTEND;VALUE=DATE:20290712
DTSTAMP:20260420T020301
CREATED:20260114T195203Z
LAST-MODIFIED:20260217T233349Z
UID:10000082-1878336000-1878508799@washingtoncountyksed.com
SUMMARY:Linn Picnic
DESCRIPTION:Linn Picnic — Linn\, Kansas \nThe Linn Picnic is a long-standing annual summer celebration in the small community of Linn in Washington County\, Kansas. Held each July at the Linn City Park\, this cherished event brings together residents and visitors for a weekend full of fun\, tradition\, and community pride. \nA highlight of the picnic is one of the biggest demolition derbies around\, featuring drivers from across the region and packing the stands with enthusiastic fans. Alongside the high-energy derby\, the picnic also offers kids’ games\, a parade\, live music\, and social gatherings that make it a favorite for families and friends looking to enjoy small-town summer festivities. \nSet against the backdrop of the city’s park with its picnic facilities and shelter houses\, the event encapsulates the friendly\, close-knit spirit of rural Kansas. Whether you’re watching the derby\, strolling in the parade\, or taking part in community activities\, the Linn Picnic celebrates local heritage and brings people together for a great weekend every year.
URL:https://washingtoncountyksed.com/event/linn-picnic-2/2029-07-10/
CATEGORIES:Linn Picnic
ATTACH;FMTTYPE=image/jpeg:https://washingtoncountyksed.com/wp-content/uploads/2026/01/Linn-Picnic.jpg
END:VEVENT
END:VCALENDAR