BEGIN:VCALENDAR
VERSION:2.0
PRODID:-//Washington County Economic Development - ECPv6.15.15//NONSGML v1.0//EN
CALSCALE:GREGORIAN
METHOD:PUBLISH
X-WR-CALNAME:Washington County Economic Development
X-ORIGINAL-URL:https://washingtoncountyksed.com
X-WR-CALDESC:Events for Washington County Economic Development
REFRESH-INTERVAL;VALUE=DURATION:PT1H
X-Robots-Tag:noindex
X-PUBLISHED-TTL:PT1H
BEGIN:VTIMEZONE
TZID:America/Chicago
BEGIN:DAYLIGHT
TZOFFSETFROM:-0600
TZOFFSETTO:-0500
TZNAME:CDT
DTSTART:20270314T080000
END:DAYLIGHT
BEGIN:STANDARD
TZOFFSETFROM:-0500
TZOFFSETTO:-0600
TZNAME:CST
DTSTART:20271107T070000
END:STANDARD
BEGIN:DAYLIGHT
TZOFFSETFROM:-0600
TZOFFSETTO:-0500
TZNAME:CDT
DTSTART:20280312T080000
END:DAYLIGHT
BEGIN:STANDARD
TZOFFSETFROM:-0500
TZOFFSETTO:-0600
TZNAME:CST
DTSTART:20281105T070000
END:STANDARD
BEGIN:DAYLIGHT
TZOFFSETFROM:-0600
TZOFFSETTO:-0500
TZNAME:CDT
DTSTART:20290311T080000
END:DAYLIGHT
BEGIN:STANDARD
TZOFFSETFROM:-0500
TZOFFSETTO:-0600
TZNAME:CST
DTSTART:20291104T070000
END:STANDARD
END:VTIMEZONE
BEGIN:VEVENT
DTSTART;VALUE=DATE:20280915
DTEND;VALUE=DATE:20280918
DTSTAMP:20260420T015845
CREATED:20250508T071132Z
LAST-MODIFIED:20260114T200831Z
UID:10000060-1852588800-1852847999@washingtoncountyksed.com
SUMMARY:Highway 36 Treasure Hunt
DESCRIPTION:Highway 36 Garage Sales / Treasure Hunt — Kansas \nThe Highway 36 Garage Sales\, also known as the Highway 36 Treasure Hunt\, is a popular annual fall event that turns U.S. Highway 36 into one of the biggest roadside shopping experiences in Kansas. Held every third weekend in September\, this unique treasure hunt stretches over 400 miles across northern Kansas\, linking dozens of towns from Elwood to St. Francis in a massive series of antique\, estate\, and garage sales. \nOver the course of a weekend—typically Thursday through Saturday—shoppers and bargain hunters follow maps published for participating communities to find sales filled with antiques\, collectibles\, household goods\, vintage items\, tools\, décor\, and other hidden gems. Maps and Google-mapped sale locations are made available starting Mid – September\, helping visitors plan their route and discover treasures from small towns along the highway. \nBeyond the thrill of the hunt\, the event also showcases the charm of Kansas’s rural communities. Each participating town joins in the fun\, providing visitors with opportunities to explore local shops\, historic sites\, eateries\, and community personalities along the scenic U.S.-36 corridor. \nWhether you’re a seasoned collector\, a weekend browser\, or a road-trip enthusiast\, the Highway 36 Garage Sales offer a memorable autumn adventure through the heart of small-town Kansas.
URL:https://washingtoncountyksed.com/event/highway-36-treasure-hunt/2028-09-15/
CATEGORIES:Highway 36 Treasure Hunt
ATTACH;FMTTYPE=image/jpeg:https://washingtoncountyksed.com/wp-content/uploads/2025/05/HWY-36.jpg
END:VEVENT
END:VCALENDAR