BEGIN:VCALENDAR
VERSION:2.0
PRODID:-//Washington County Economic Development - ECPv6.15.15//NONSGML v1.0//EN
CALSCALE:GREGORIAN
METHOD:PUBLISH
X-ORIGINAL-URL:https://washingtoncountyksed.com
X-WR-CALDESC:Events for Washington County Economic Development
REFRESH-INTERVAL;VALUE=DURATION:PT1H
X-Robots-Tag:noindex
X-PUBLISHED-TTL:PT1H
BEGIN:VTIMEZONE
TZID:America/Chicago
BEGIN:DAYLIGHT
TZOFFSETFROM:-0600
TZOFFSETTO:-0500
TZNAME:CDT
DTSTART:20260308T080000
END:DAYLIGHT
BEGIN:STANDARD
TZOFFSETFROM:-0500
TZOFFSETTO:-0600
TZNAME:CST
DTSTART:20261101T070000
END:STANDARD
BEGIN:DAYLIGHT
TZOFFSETFROM:-0600
TZOFFSETTO:-0500
TZNAME:CDT
DTSTART:20270314T080000
END:DAYLIGHT
BEGIN:STANDARD
TZOFFSETFROM:-0500
TZOFFSETTO:-0600
TZNAME:CST
DTSTART:20271107T070000
END:STANDARD
BEGIN:DAYLIGHT
TZOFFSETFROM:-0600
TZOFFSETTO:-0500
TZNAME:CDT
DTSTART:20280312T080000
END:DAYLIGHT
BEGIN:STANDARD
TZOFFSETFROM:-0500
TZOFFSETTO:-0600
TZNAME:CST
DTSTART:20281105T070000
END:STANDARD
END:VTIMEZONE
BEGIN:VEVENT
DTSTART;VALUE=DATE:20270710
DTEND;VALUE=DATE:20270712
DTSTAMP:20260421T101212
CREATED:20260114T195203Z
LAST-MODIFIED:20260217T233349Z
UID:10000080-1815177600-1815350399@washingtoncountyksed.com
SUMMARY:Linn Picnic
DESCRIPTION:Linn Picnic — Linn\, Kansas \nThe Linn Picnic is a long-standing annual summer celebration in the small community of Linn in Washington County\, Kansas. Held each July at the Linn City Park\, this cherished event brings together residents and visitors for a weekend full of fun\, tradition\, and community pride. \nA highlight of the picnic is one of the biggest demolition derbies around\, featuring drivers from across the region and packing the stands with enthusiastic fans. Alongside the high-energy derby\, the picnic also offers kids’ games\, a parade\, live music\, and social gatherings that make it a favorite for families and friends looking to enjoy small-town summer festivities. \nSet against the backdrop of the city’s park with its picnic facilities and shelter houses\, the event encapsulates the friendly\, close-knit spirit of rural Kansas. Whether you’re watching the derby\, strolling in the parade\, or taking part in community activities\, the Linn Picnic celebrates local heritage and brings people together for a great weekend every year.
URL:https://washingtoncountyksed.com/event/linn-picnic-2/2027-07-10/
CATEGORIES:Linn Picnic
ATTACH;FMTTYPE=image/jpeg:https://washingtoncountyksed.com/wp-content/uploads/2026/01/Linn-Picnic.jpg
END:VEVENT
BEGIN:VEVENT
DTSTART;VALUE=DATE:20270713
DTEND;VALUE=DATE:20270719
DTSTAMP:20260421T101212
CREATED:20250508T063340Z
LAST-MODIFIED:20260210T171431Z
UID:10000090-1815436800-1815955199@washingtoncountyksed.com
SUMMARY:Washington County Fair
DESCRIPTION:The Washington County Fair is a long-standing annual community tradition celebrating agriculture\, youth development\, and local culture in Washington County\, Kansas. Held each summer at the Washington County Fairgrounds in Washington\, this fair brings together residents and visitors for a full week of exhibits\, entertainment\, competitions\, and family-friendly fun. \nTypically taking place in July (with recent events scheduled around mid-July) each year\, the fair features a wide range of activities that highlight the region’s agricultural roots and community spirit. Attendees can enjoy livestock shows\, 4-H and FFA exhibitions\, home arts and crafts displays\, carnival rides\, food vendors\, and livestock competitions. \nIn addition to traditional fair attractions\, the event often includes special contests and entertainment\, such as photography contests\, Queen competitions\, horseshoe tournaments\, and other engaging activities for all ages. \nThe Washington County Fair is more than just a festival — it’s an opportunity for community members to connect\, celebrate local talent and agriculture\, and enjoy the best of small-town Kansas life. \n2026 Fair parade theme is Stars\, Stripes\, & County Fair Nights
URL:https://washingtoncountyksed.com/event/washington-county-fair/2027-07-13/
CATEGORIES:Washington County Fair
ATTACH;FMTTYPE=image/jpeg:https://washingtoncountyksed.com/wp-content/uploads/2025/06/Washington-County-Fair.jpg
END:VEVENT
END:VCALENDAR