BEGIN:VCALENDAR
VERSION:2.0
PRODID:-//Washington County Economic Development - ECPv6.15.15//NONSGML v1.0//EN
CALSCALE:GREGORIAN
METHOD:PUBLISH
X-WR-CALNAME:Washington County Economic Development
X-ORIGINAL-URL:https://washingtoncountyksed.com
X-WR-CALDESC:Events for Washington County Economic Development
REFRESH-INTERVAL;VALUE=DURATION:PT1H
X-Robots-Tag:noindex
X-PUBLISHED-TTL:PT1H
BEGIN:VTIMEZONE
TZID:America/Chicago
BEGIN:DAYLIGHT
TZOFFSETFROM:-0600
TZOFFSETTO:-0500
TZNAME:CDT
DTSTART:20250309T080000
END:DAYLIGHT
BEGIN:STANDARD
TZOFFSETFROM:-0500
TZOFFSETTO:-0600
TZNAME:CST
DTSTART:20251102T070000
END:STANDARD
BEGIN:DAYLIGHT
TZOFFSETFROM:-0600
TZOFFSETTO:-0500
TZNAME:CDT
DTSTART:20260308T080000
END:DAYLIGHT
BEGIN:STANDARD
TZOFFSETFROM:-0500
TZOFFSETTO:-0600
TZNAME:CST
DTSTART:20261101T070000
END:STANDARD
BEGIN:DAYLIGHT
TZOFFSETFROM:-0600
TZOFFSETTO:-0500
TZNAME:CDT
DTSTART:20270314T080000
END:DAYLIGHT
BEGIN:STANDARD
TZOFFSETFROM:-0500
TZOFFSETTO:-0600
TZNAME:CST
DTSTART:20271107T070000
END:STANDARD
END:VTIMEZONE
BEGIN:VEVENT
DTSTART;TZID=America/Chicago:20261201T080000
DTEND;TZID=America/Chicago:20261231T170000
DTSTAMP:20260421T003139
CREATED:20260114T201820Z
LAST-MODIFIED:20260114T201850Z
UID:10000109-1796112000-1798736400@washingtoncountyksed.com
SUMMARY:Holidays in Hanover
DESCRIPTION:Holidays in Hanover — Hanover\, Kansas \nHolidays in Hanover is a festive seasonal celebration that shines each December in Hanover\, Kansas\, blending small-town charm with holiday spirit and community togetherness. This event\, often dubbed A New Twinkling Tradition\, creates a magical atmosphere where lights\, music\, shopping\, and family-friendly activities usher in the holiday season for residents and visitors alike. \nThe celebration typically unfolds in early December and includes a variety of activities that highlight the charm of Hanover in winter. Downtown streets sparkle with holiday lights and decorations\, while local vendors and makers line North Street with booths offering handmade gifts\, seasonal décor\, and festive treats — perfect for holiday shopping and supporting small businesses. \nFamilies can enjoy children’s crafts\, holiday games\, Christmas Bingo\, and letters to Santa at community hubs like the Knights of Columbus Hall\, and don’t miss the chance to meet Santa himself\, whose arrival adds that classic holiday excitement. A centerpiece of the evening is the town’s Christmas tree lighting\, where neighbors gather around a beautifully decorated tree — often a freshly chosen local cedar — to sing carols and celebrate the season together. \nHolidays in Hanover is more than just an event — it’s a heartfelt community tradition that captures the warmth\, nostalgia\, and joy of the holidays in rural Kansas. Whether you’re browsing festive booths\, sipping a warm drink by the lights\, or sharing moments with family and friends\, this special celebration truly embodies the holiday spirit.
URL:https://washingtoncountyksed.com/event/holidays-in-hanover/
CATEGORIES:Holidays in Hanover
END:VEVENT
BEGIN:VEVENT
DTSTART;VALUE=DATE:20261205
DTEND;VALUE=DATE:20261206
DTSTAMP:20260421T003139
CREATED:20250508T071428Z
LAST-MODIFIED:20260114T201614Z
UID:10000076-1796428800-1796515199@washingtoncountyksed.com
SUMMARY:Santas Gifts & Goodies
DESCRIPTION:Santa’s Gifts & Goodies — Washington\, Kansas \nSanta’s Gifts & Goodies is a festive\, all-ages holiday event held each first Saturday in December in Washington\, Kansas. This seasonal celebration offers a wonderful way for families and friends to enjoy the magic of the holidays while supporting local businesses and community spirit. \nThroughout the day\, the streets and venues of Washington are filled with craft vendors\, local businesses hosting open houses\, and unique holiday shopping opportunities — perfect for finding special gifts and goodies for everyone on your list. Adventurers can “weave through Washington” visiting multiple locations that showcase handmade items\, holiday treats\, and creative crafts. \nNo holiday celebration in Washington would be complete without a stop for a Lions Club pancake feed\, a beloved tradition that draws locals together over delicious breakfast favorites. Later in the afternoon\, Santa Claus makes a cheerful appearance\, greeting families and adding extra holiday magic to the festivities. \nWhether you’re checking items off your Christmas list\, enjoying seasonal food and treats\, or just soaking up the warm community atmosphere\, Santa’s Gifts & Goodies is a cherished way to kick off the holiday season in Washington.
URL:https://washingtoncountyksed.com/event/santas-gifts-goodies/2026-12-05/
CATEGORIES:Santas Gifts & Goodies
ATTACH;FMTTYPE=image/png:https://washingtoncountyksed.com/wp-content/uploads/2025/10/Santas-Gifts-Goodies.png
END:VEVENT
END:VCALENDAR