BEGIN:VCALENDAR
VERSION:2.0
PRODID:-//Washington County Economic Development - ECPv6.15.15//NONSGML v1.0//EN
CALSCALE:GREGORIAN
METHOD:PUBLISH
X-ORIGINAL-URL:https://washingtoncountyksed.com
X-WR-CALDESC:Events for Washington County Economic Development
REFRESH-INTERVAL;VALUE=DURATION:PT1H
X-Robots-Tag:noindex
X-PUBLISHED-TTL:PT1H
BEGIN:VTIMEZONE
TZID:America/Chicago
BEGIN:DAYLIGHT
TZOFFSETFROM:-0600
TZOFFSETTO:-0500
TZNAME:CDT
DTSTART:20250309T080000
END:DAYLIGHT
BEGIN:STANDARD
TZOFFSETFROM:-0500
TZOFFSETTO:-0600
TZNAME:CST
DTSTART:20251102T070000
END:STANDARD
BEGIN:DAYLIGHT
TZOFFSETFROM:-0600
TZOFFSETTO:-0500
TZNAME:CDT
DTSTART:20260308T080000
END:DAYLIGHT
BEGIN:STANDARD
TZOFFSETFROM:-0500
TZOFFSETTO:-0600
TZNAME:CST
DTSTART:20261101T070000
END:STANDARD
BEGIN:DAYLIGHT
TZOFFSETFROM:-0600
TZOFFSETTO:-0500
TZNAME:CDT
DTSTART:20270314T080000
END:DAYLIGHT
BEGIN:STANDARD
TZOFFSETFROM:-0500
TZOFFSETTO:-0600
TZNAME:CST
DTSTART:20271107T070000
END:STANDARD
END:VTIMEZONE
BEGIN:VEVENT
DTSTART;TZID=America/Chicago:20260801T080000
DTEND;TZID=America/Chicago:20260801T170000
DTSTAMP:20260420T083901
CREATED:20251004T144901Z
LAST-MODIFIED:20260114T195729Z
UID:10000071-1785571200-1785603600@washingtoncountyksed.com
SUMMARY:Haddam Frontier Days
DESCRIPTION:Haddam Frontier Days — Haddam\, Kansas \nHaddam Frontier Days is an annual community celebration held each August in the small town of Haddam in Washington County\, Kansas. This lively weekend event brings residents and visitors together for a mix of friendly competition\, fun activities\, music\, and social time that showcase the close-knit spirit of rural Kansas. \nTypically scheduled from Friday through Sunday\, Frontier Days offers something for everyone. Throughout the weekend\, attendees can participate in or watch cornhole and volleyball tournaments\, enjoy kid games including a wet bounce house\, take part in a paint-and-sip\, and even join a road rally or golf event. Live entertainment and music—often featuring local bands and performers—add to the festive atmosphere\, creating a great setting for families and friends to gather and celebrate summer. \nBeyond games and music\, the event fosters community engagement with activities suited to all ages\, making it a highlight on Haddam’s annual calendar. Whether you’re competing\, spectating\, or just enjoying the company and small-town charm\, Frontier Days embodies the welcoming\, fun-loving character of this Kansas community. \nDates: August
URL:https://washingtoncountyksed.com/event/haddam-frontier-days/
END:VEVENT
END:VCALENDAR