BEGIN:VCALENDAR
VERSION:2.0
PRODID:-//Washington County Economic Development - ECPv6.15.15//NONSGML v1.0//EN
CALSCALE:GREGORIAN
METHOD:PUBLISH
X-ORIGINAL-URL:https://washingtoncountyksed.com
X-WR-CALDESC:Events for Washington County Economic Development
REFRESH-INTERVAL;VALUE=DURATION:PT1H
X-Robots-Tag:noindex
X-PUBLISHED-TTL:PT1H
BEGIN:VTIMEZONE
TZID:America/Chicago
BEGIN:DAYLIGHT
TZOFFSETFROM:-0600
TZOFFSETTO:-0500
TZNAME:CDT
DTSTART:20250309T080000
END:DAYLIGHT
BEGIN:STANDARD
TZOFFSETFROM:-0500
TZOFFSETTO:-0600
TZNAME:CST
DTSTART:20251102T070000
END:STANDARD
BEGIN:DAYLIGHT
TZOFFSETFROM:-0600
TZOFFSETTO:-0500
TZNAME:CDT
DTSTART:20260308T080000
END:DAYLIGHT
BEGIN:STANDARD
TZOFFSETFROM:-0500
TZOFFSETTO:-0600
TZNAME:CST
DTSTART:20261101T070000
END:STANDARD
BEGIN:DAYLIGHT
TZOFFSETFROM:-0600
TZOFFSETTO:-0500
TZNAME:CDT
DTSTART:20270314T080000
END:DAYLIGHT
BEGIN:STANDARD
TZOFFSETFROM:-0500
TZOFFSETTO:-0600
TZNAME:CST
DTSTART:20271107T070000
END:STANDARD
BEGIN:DAYLIGHT
TZOFFSETFROM:-0600
TZOFFSETTO:-0500
TZNAME:CDT
DTSTART:20280312T080000
END:DAYLIGHT
BEGIN:STANDARD
TZOFFSETFROM:-0500
TZOFFSETTO:-0600
TZNAME:CST
DTSTART:20281105T070000
END:STANDARD
BEGIN:DAYLIGHT
TZOFFSETFROM:-0600
TZOFFSETTO:-0500
TZNAME:CDT
DTSTART:20290311T080000
END:DAYLIGHT
BEGIN:STANDARD
TZOFFSETFROM:-0500
TZOFFSETTO:-0600
TZNAME:CST
DTSTART:20291104T070000
END:STANDARD
BEGIN:DAYLIGHT
TZOFFSETFROM:-0600
TZOFFSETTO:-0500
TZNAME:CDT
DTSTART:20300310T080000
END:DAYLIGHT
BEGIN:STANDARD
TZOFFSETFROM:-0500
TZOFFSETTO:-0600
TZNAME:CST
DTSTART:20301103T070000
END:STANDARD
BEGIN:DAYLIGHT
TZOFFSETFROM:-0600
TZOFFSETTO:-0500
TZNAME:CDT
DTSTART:20310309T080000
END:DAYLIGHT
BEGIN:STANDARD
TZOFFSETFROM:-0500
TZOFFSETTO:-0600
TZNAME:CST
DTSTART:20311102T070000
END:STANDARD
END:VTIMEZONE
BEGIN:VEVENT
DTSTART;TZID=America/Chicago:20260829T080000
DTEND;TZID=America/Chicago:20260830T170000
DTSTAMP:20260420T021102
CREATED:20251004T144601Z
LAST-MODIFIED:20260114T195446Z
UID:10000084-1787990400-1788109200@washingtoncountyksed.com
SUMMARY:Pony Express Festival
DESCRIPTION:Pony Express Festival — Hanover\, Kansas \nThe Pony Express Festival is an annual celebration held at the Hollenberg Pony Express Station State Historic Site near Hanover\, Kansas. This historic festival honors the legendary Pony Express mail riders and the crucial role this region played in the short-lived but iconic mail service of the 1860s. The Hollenberg Station is the only original Pony Express station still standing on its original site and serves as a living testament to frontier history. \nTypically held in late August\, the festival runs from mid-morning into the afternoon and features a variety of period demonstrations\, historical activities\, and family-friendly fun that bring the spirit of the Old West to life. Attendees often enjoy a pulled pork lunch\, an ice cream stand\, and interactive experiences that highlight pioneer life and the riders’ adventurous mail delivery routes. \nA central part of the celebration is the mochila exchange\, symbolizing the transfer of mail bags much like the original Pony Express riders did as they raced across the frontier. The event fosters appreciation for the courage and endurance of those early riders while offering educational insights into this unique chapter of American history. \nWhether you’re a history buff\, a family looking for a fall outing\, or simply curious about Kansas’s frontier heritage\, the Pony Express Festival provides a memorable glimpse into the past in the heart of historic Hanover. \nDates: Last Weekend in August
URL:https://washingtoncountyksed.com/event/pony-express-festival/2026-08-29/
ATTACH;FMTTYPE=image/jpeg:https://washingtoncountyksed.com/wp-content/uploads/2026/01/Pony-Express-Festival.jpg
END:VEVENT
BEGIN:VEVENT
DTSTART;TZID=America/Chicago:20270828T080000
DTEND;TZID=America/Chicago:20270829T170000
DTSTAMP:20260420T021102
CREATED:20251004T144601Z
LAST-MODIFIED:20260114T195446Z
UID:10000085-1819440000-1819558800@washingtoncountyksed.com
SUMMARY:Pony Express Festival
DESCRIPTION:Pony Express Festival — Hanover\, Kansas \nThe Pony Express Festival is an annual celebration held at the Hollenberg Pony Express Station State Historic Site near Hanover\, Kansas. This historic festival honors the legendary Pony Express mail riders and the crucial role this region played in the short-lived but iconic mail service of the 1860s. The Hollenberg Station is the only original Pony Express station still standing on its original site and serves as a living testament to frontier history. \nTypically held in late August\, the festival runs from mid-morning into the afternoon and features a variety of period demonstrations\, historical activities\, and family-friendly fun that bring the spirit of the Old West to life. Attendees often enjoy a pulled pork lunch\, an ice cream stand\, and interactive experiences that highlight pioneer life and the riders’ adventurous mail delivery routes. \nA central part of the celebration is the mochila exchange\, symbolizing the transfer of mail bags much like the original Pony Express riders did as they raced across the frontier. The event fosters appreciation for the courage and endurance of those early riders while offering educational insights into this unique chapter of American history. \nWhether you’re a history buff\, a family looking for a fall outing\, or simply curious about Kansas’s frontier heritage\, the Pony Express Festival provides a memorable glimpse into the past in the heart of historic Hanover. \nDates: Last Weekend in August
URL:https://washingtoncountyksed.com/event/pony-express-festival/2027-08-28/
ATTACH;FMTTYPE=image/jpeg:https://washingtoncountyksed.com/wp-content/uploads/2026/01/Pony-Express-Festival.jpg
END:VEVENT
BEGIN:VEVENT
DTSTART;TZID=America/Chicago:20280826T080000
DTEND;TZID=America/Chicago:20280827T170000
DTSTAMP:20260420T021102
CREATED:20251004T144601Z
LAST-MODIFIED:20260114T195446Z
UID:10000086-1850889600-1851008400@washingtoncountyksed.com
SUMMARY:Pony Express Festival
DESCRIPTION:Pony Express Festival — Hanover\, Kansas \nThe Pony Express Festival is an annual celebration held at the Hollenberg Pony Express Station State Historic Site near Hanover\, Kansas. This historic festival honors the legendary Pony Express mail riders and the crucial role this region played in the short-lived but iconic mail service of the 1860s. The Hollenberg Station is the only original Pony Express station still standing on its original site and serves as a living testament to frontier history. \nTypically held in late August\, the festival runs from mid-morning into the afternoon and features a variety of period demonstrations\, historical activities\, and family-friendly fun that bring the spirit of the Old West to life. Attendees often enjoy a pulled pork lunch\, an ice cream stand\, and interactive experiences that highlight pioneer life and the riders’ adventurous mail delivery routes. \nA central part of the celebration is the mochila exchange\, symbolizing the transfer of mail bags much like the original Pony Express riders did as they raced across the frontier. The event fosters appreciation for the courage and endurance of those early riders while offering educational insights into this unique chapter of American history. \nWhether you’re a history buff\, a family looking for a fall outing\, or simply curious about Kansas’s frontier heritage\, the Pony Express Festival provides a memorable glimpse into the past in the heart of historic Hanover. \nDates: Last Weekend in August
URL:https://washingtoncountyksed.com/event/pony-express-festival/2028-08-26/
ATTACH;FMTTYPE=image/jpeg:https://washingtoncountyksed.com/wp-content/uploads/2026/01/Pony-Express-Festival.jpg
END:VEVENT
BEGIN:VEVENT
DTSTART;TZID=America/Chicago:20290825T080000
DTEND;TZID=America/Chicago:20290826T170000
DTSTAMP:20260420T021102
CREATED:20251004T144601Z
LAST-MODIFIED:20260114T195446Z
UID:10000087-1882339200-1882458000@washingtoncountyksed.com
SUMMARY:Pony Express Festival
DESCRIPTION:Pony Express Festival — Hanover\, Kansas \nThe Pony Express Festival is an annual celebration held at the Hollenberg Pony Express Station State Historic Site near Hanover\, Kansas. This historic festival honors the legendary Pony Express mail riders and the crucial role this region played in the short-lived but iconic mail service of the 1860s. The Hollenberg Station is the only original Pony Express station still standing on its original site and serves as a living testament to frontier history. \nTypically held in late August\, the festival runs from mid-morning into the afternoon and features a variety of period demonstrations\, historical activities\, and family-friendly fun that bring the spirit of the Old West to life. Attendees often enjoy a pulled pork lunch\, an ice cream stand\, and interactive experiences that highlight pioneer life and the riders’ adventurous mail delivery routes. \nA central part of the celebration is the mochila exchange\, symbolizing the transfer of mail bags much like the original Pony Express riders did as they raced across the frontier. The event fosters appreciation for the courage and endurance of those early riders while offering educational insights into this unique chapter of American history. \nWhether you’re a history buff\, a family looking for a fall outing\, or simply curious about Kansas’s frontier heritage\, the Pony Express Festival provides a memorable glimpse into the past in the heart of historic Hanover. \nDates: Last Weekend in August
URL:https://washingtoncountyksed.com/event/pony-express-festival/2029-08-25/
ATTACH;FMTTYPE=image/jpeg:https://washingtoncountyksed.com/wp-content/uploads/2026/01/Pony-Express-Festival.jpg
END:VEVENT
BEGIN:VEVENT
DTSTART;TZID=America/Chicago:20300831T080000
DTEND;TZID=America/Chicago:20300901T170000
DTSTAMP:20260420T021102
CREATED:20251004T144601Z
LAST-MODIFIED:20260114T195446Z
UID:10000088-1914393600-1914512400@washingtoncountyksed.com
SUMMARY:Pony Express Festival
DESCRIPTION:Pony Express Festival — Hanover\, Kansas \nThe Pony Express Festival is an annual celebration held at the Hollenberg Pony Express Station State Historic Site near Hanover\, Kansas. This historic festival honors the legendary Pony Express mail riders and the crucial role this region played in the short-lived but iconic mail service of the 1860s. The Hollenberg Station is the only original Pony Express station still standing on its original site and serves as a living testament to frontier history. \nTypically held in late August\, the festival runs from mid-morning into the afternoon and features a variety of period demonstrations\, historical activities\, and family-friendly fun that bring the spirit of the Old West to life. Attendees often enjoy a pulled pork lunch\, an ice cream stand\, and interactive experiences that highlight pioneer life and the riders’ adventurous mail delivery routes. \nA central part of the celebration is the mochila exchange\, symbolizing the transfer of mail bags much like the original Pony Express riders did as they raced across the frontier. The event fosters appreciation for the courage and endurance of those early riders while offering educational insights into this unique chapter of American history. \nWhether you’re a history buff\, a family looking for a fall outing\, or simply curious about Kansas’s frontier heritage\, the Pony Express Festival provides a memorable glimpse into the past in the heart of historic Hanover. \nDates: Last Weekend in August
URL:https://washingtoncountyksed.com/event/pony-express-festival/2030-08-31/
ATTACH;FMTTYPE=image/jpeg:https://washingtoncountyksed.com/wp-content/uploads/2026/01/Pony-Express-Festival.jpg
END:VEVENT
END:VCALENDAR