BEGIN:VCALENDAR
VERSION:2.0
PRODID:-//Washington County Economic Development - ECPv6.15.15//NONSGML v1.0//EN
CALSCALE:GREGORIAN
METHOD:PUBLISH
X-ORIGINAL-URL:https://washingtoncountyksed.com
X-WR-CALDESC:Events for Washington County Economic Development
REFRESH-INTERVAL;VALUE=DURATION:PT1H
X-Robots-Tag:noindex
X-PUBLISHED-TTL:PT1H
BEGIN:VTIMEZONE
TZID:America/Chicago
BEGIN:DAYLIGHT
TZOFFSETFROM:-0600
TZOFFSETTO:-0500
TZNAME:CDT
DTSTART:20240310T080000
END:DAYLIGHT
BEGIN:STANDARD
TZOFFSETFROM:-0500
TZOFFSETTO:-0600
TZNAME:CST
DTSTART:20241103T070000
END:STANDARD
BEGIN:DAYLIGHT
TZOFFSETFROM:-0600
TZOFFSETTO:-0500
TZNAME:CDT
DTSTART:20250309T080000
END:DAYLIGHT
BEGIN:STANDARD
TZOFFSETFROM:-0500
TZOFFSETTO:-0600
TZNAME:CST
DTSTART:20251102T070000
END:STANDARD
BEGIN:DAYLIGHT
TZOFFSETFROM:-0600
TZOFFSETTO:-0500
TZNAME:CDT
DTSTART:20260308T080000
END:DAYLIGHT
BEGIN:STANDARD
TZOFFSETFROM:-0500
TZOFFSETTO:-0600
TZNAME:CST
DTSTART:20261101T070000
END:STANDARD
BEGIN:DAYLIGHT
TZOFFSETFROM:-0600
TZOFFSETTO:-0500
TZNAME:CDT
DTSTART:20270314T080000
END:DAYLIGHT
BEGIN:STANDARD
TZOFFSETFROM:-0500
TZOFFSETTO:-0600
TZNAME:CST
DTSTART:20271107T070000
END:STANDARD
END:VTIMEZONE
BEGIN:VEVENT
DTSTART;VALUE=DATE:20260710
DTEND;VALUE=DATE:20260712
DTSTAMP:20260421T193333
CREATED:20260114T195203Z
LAST-MODIFIED:20260217T233349Z
UID:10000017-1783641600-1783814399@washingtoncountyksed.com
SUMMARY:Linn Picnic
DESCRIPTION:Linn Picnic — Linn\, Kansas \nThe Linn Picnic is a long-standing annual summer celebration in the small community of Linn in Washington County\, Kansas. Held each July at the Linn City Park\, this cherished event brings together residents and visitors for a weekend full of fun\, tradition\, and community pride. \nA highlight of the picnic is one of the biggest demolition derbies around\, featuring drivers from across the region and packing the stands with enthusiastic fans. Alongside the high-energy derby\, the picnic also offers kids’ games\, a parade\, live music\, and social gatherings that make it a favorite for families and friends looking to enjoy small-town summer festivities. \nSet against the backdrop of the city’s park with its picnic facilities and shelter houses\, the event encapsulates the friendly\, close-knit spirit of rural Kansas. Whether you’re watching the derby\, strolling in the parade\, or taking part in community activities\, the Linn Picnic celebrates local heritage and brings people together for a great weekend every year.
URL:https://washingtoncountyksed.com/event/linn-picnic-2/2026-07-10/
CATEGORIES:Linn Picnic
ATTACH;FMTTYPE=image/jpeg:https://washingtoncountyksed.com/wp-content/uploads/2026/01/Linn-Picnic.jpg
END:VEVENT
BEGIN:VEVENT
DTSTART;TZID=America/Chicago:20251129T080000
DTEND;TZID=America/Chicago:20251129T170000
DTSTAMP:20260421T193333
CREATED:20251004T145101Z
LAST-MODIFIED:20260114T201310Z
UID:10000074-1764403200-1764435600@washingtoncountyksed.com
SUMMARY:Barnes Lighted Horse Parade
DESCRIPTION:Barnes Lighted Horse Parade — Barnes\, Kansas \nThe Barnes Lighted Horse Parade is a beloved annual holiday tradition held in the small community of Barnes\, Kansas\, each Saturday evening following Thanksgiving. What began more than 20 years ago as a modest gathering of just a handful of riders has grown into a festive event that draws families\, neighbors\, and visitors to downtown Barnes to kick off the holiday season with charm and cheer. \nThe parade features horses and carriages adorned with holiday lights and decorations\, creating a magical evening as they wind through the town streets after dusk. Before the parade begins\, festivities often include a soup supper at the local firehouse\, free carriage rides\, visits with Santa at the Hometown Café\, and hot beverages like coffee and cocoa from local vendors — making it a full evening of community fun. \nOver the years\, the event has become more than just a parade of illuminated horses; it’s a celebration of small-town spirit and togetherness. Each year’s festivities may also include special dedications or community fundraisers tied to local causes\, highlighting the caring and close-knit nature of Barnes. \nWhether you’re there for the twinkling lights\, the warm community atmosphere\, or the unique sight of horses aglow at night\, the Barnes Lighted Horse Parade offers a memorable start to the holiday season in northeast Kansas.
URL:https://washingtoncountyksed.com/event/barnes-lighted-horse-parade/
ATTACH;FMTTYPE=image/jpeg:https://washingtoncountyksed.com/wp-content/uploads/2025/10/Barnes-Lighted-Horse-Parade.jpg
END:VEVENT
END:VCALENDAR