BEGIN:VCALENDAR
VERSION:2.0
PRODID:-//Washington County Economic Development - ECPv6.15.15//NONSGML v1.0//EN
CALSCALE:GREGORIAN
METHOD:PUBLISH
X-ORIGINAL-URL:https://washingtoncountyksed.com
X-WR-CALDESC:Events for Washington County Economic Development
REFRESH-INTERVAL;VALUE=DURATION:PT1H
X-Robots-Tag:noindex
X-PUBLISHED-TTL:PT1H
BEGIN:VTIMEZONE
TZID:America/Chicago
BEGIN:DAYLIGHT
TZOFFSETFROM:-0600
TZOFFSETTO:-0500
TZNAME:CDT
DTSTART:20240310T080000
END:DAYLIGHT
BEGIN:STANDARD
TZOFFSETFROM:-0500
TZOFFSETTO:-0600
TZNAME:CST
DTSTART:20241103T070000
END:STANDARD
BEGIN:DAYLIGHT
TZOFFSETFROM:-0600
TZOFFSETTO:-0500
TZNAME:CDT
DTSTART:20250309T080000
END:DAYLIGHT
BEGIN:STANDARD
TZOFFSETFROM:-0500
TZOFFSETTO:-0600
TZNAME:CST
DTSTART:20251102T070000
END:STANDARD
BEGIN:DAYLIGHT
TZOFFSETFROM:-0600
TZOFFSETTO:-0500
TZNAME:CDT
DTSTART:20260308T080000
END:DAYLIGHT
BEGIN:STANDARD
TZOFFSETFROM:-0500
TZOFFSETTO:-0600
TZNAME:CST
DTSTART:20261101T070000
END:STANDARD
BEGIN:DAYLIGHT
TZOFFSETFROM:-0600
TZOFFSETTO:-0500
TZNAME:CDT
DTSTART:20270314T080000
END:DAYLIGHT
BEGIN:STANDARD
TZOFFSETFROM:-0500
TZOFFSETTO:-0600
TZNAME:CST
DTSTART:20271107T070000
END:STANDARD
END:VTIMEZONE
BEGIN:VEVENT
DTSTART;VALUE=DATE:20260710
DTEND;VALUE=DATE:20260712
DTSTAMP:20260420T192210
CREATED:20260114T195203Z
LAST-MODIFIED:20260217T233349Z
UID:10000017-1783641600-1783814399@washingtoncountyksed.com
SUMMARY:Linn Picnic
DESCRIPTION:Linn Picnic — Linn\, Kansas \nThe Linn Picnic is a long-standing annual summer celebration in the small community of Linn in Washington County\, Kansas. Held each July at the Linn City Park\, this cherished event brings together residents and visitors for a weekend full of fun\, tradition\, and community pride. \nA highlight of the picnic is one of the biggest demolition derbies around\, featuring drivers from across the region and packing the stands with enthusiastic fans. Alongside the high-energy derby\, the picnic also offers kids’ games\, a parade\, live music\, and social gatherings that make it a favorite for families and friends looking to enjoy small-town summer festivities. \nSet against the backdrop of the city’s park with its picnic facilities and shelter houses\, the event encapsulates the friendly\, close-knit spirit of rural Kansas. Whether you’re watching the derby\, strolling in the parade\, or taking part in community activities\, the Linn Picnic celebrates local heritage and brings people together for a great weekend every year.
URL:https://washingtoncountyksed.com/event/linn-picnic-2/2026-07-10/
CATEGORIES:Linn Picnic
ATTACH;FMTTYPE=image/jpeg:https://washingtoncountyksed.com/wp-content/uploads/2026/01/Linn-Picnic.jpg
END:VEVENT
BEGIN:VEVENT
DTSTART;TZID=America/Chicago:20260703T080000
DTEND;TZID=America/Chicago:20260705T170000
DTSTAMP:20260420T192210
CREATED:20250508T063956Z
LAST-MODIFIED:20260114T194451Z
UID:10000012-1783065600-1783270800@washingtoncountyksed.com
SUMMARY:Hanover Days of ’49
DESCRIPTION:Hanover Days of ’49 — Hanover\, Kansas \nThe Hanover Days of ’49 is an annual community celebration held in Hanover\, Kansas\, typically over a long weekend in late June and early July that brings together residents and visitors for fun\, tradition\, and small-town spirit. \nThis three-day event features a lively carnival\, with free rides on opening night and rides continuing throughout the weekend\, making it a favorite for families. Each year’s festivities include classic community attractions like parades\, tractor shows\, turtle races\, cornhole and other games\, and music and entertainment that cater to all ages. \nIn addition to the excitement on the fairgrounds\, Hanover’s downtown comes alive with a farmers market and car show\, while evenings often wrap up with a spectacular fireworks display that draws crowds from across the region. \nRooted in local tradition\, the Days of ’49 celebrates community pride and the town’s heritage\, offering a blend of fun\, food\, and fellowship that makes it a beloved Independence Day-era highlight in Hanover each summer.
URL:https://washingtoncountyksed.com/event/hanover-days-of-49/2026-07-03/
CATEGORIES:Hanover Days of ’49
ATTACH;FMTTYPE=image/jpeg:https://washingtoncountyksed.com/wp-content/uploads/2026/01/Days-of-49.jpg
END:VEVENT
BEGIN:VEVENT
DTSTART;VALUE=DATE:20260613
DTEND;VALUE=DATE:20260615
DTSTAMP:20260420T192210
CREATED:20250508T062156Z
LAST-MODIFIED:20260114T193959Z
UID:10000002-1781308800-1781481599@washingtoncountyksed.com
SUMMARY:Washington County Rodeo
DESCRIPTION:The Washington County Rodeo is a beloved annual rodeo event held each June at the Washington County Rodeo Arena in Washington\, Kansas. Drawing contestants and spectators from across the region\, this action-packed two-day rodeo showcases classic western competition and community spirit. \nFeatured events include thrilling bull riding\, team roping\, barrel racing\, saddle bronc and bareback riding\, and other rodeo favorites that test the skill and grit of cowboys and cowgirls alike. Kids often get in on the fun too with activities like mutton bustin’\, making it a true family-friendly experience. \nThe rodeo has a long tradition in the county\, with past celebrations marking milestones like the 50th annual event\, complete with community meals\, music\, and entertainment alongside the competition. \nWhether you’re a rodeo enthusiast or just looking for a lively summer event\, the Washington County Rodeo captures the spirit of rural Kansas and the enduring heritage of Western sport. \nDates: June 13 & 14\, 2026 \nFacebook: https://www.facebook.com/WashingtonCountyRodeo
URL:https://washingtoncountyksed.com/event/washington-county-rodeo/2026-06-13/
CATEGORIES:Washington County Fair
ATTACH;FMTTYPE=image/jpeg:https://washingtoncountyksed.com/wp-content/uploads/2025/10/Rodeo.jpg
END:VEVENT
BEGIN:VEVENT
DTSTART;VALUE=DATE:20251207
DTEND;VALUE=DATE:20251208
DTSTAMP:20260420T192210
CREATED:20250508T071555Z
LAST-MODIFIED:20260114T201640Z
UID:10000043-1765065600-1765151999@washingtoncountyksed.com
SUMMARY:Palmark Christmas
DESCRIPTION:Palmark Christmas — Palmer\, Kansas \nPalmark Christmas is a festive annual holiday celebration held each December in Palmer\, Kansas\, that brings downtown to life with seasonal cheer and community spirit. Hosted by the Palmer Booster Club\, this event is designed to capture that Hallmark-style Christmas magic — with activities and traditions the whole family can enjoy. \nThroughout the day\, downtown Palmer becomes a cozy holiday destination\, featuring a visit from Santa Claus\, horse-drawn carriage rides\, professional photos with Santa\, and a hot cocoa bar to warm up holiday shoppers and families. Local businesses and volunteers often host additional activities\, including children’s fun at the Palmer Café and a soup supper that adds to the community feel of the day. \nA highlight of Palmark Christmas is the grand lighting countdown\, which kicks off as twilight falls\, and the festive town decorations shine bright. During the event\, residents participate in a Christmas Lighting Contest\, where judges tour local displays and award prizes for the best home light shows — along with a community-voted People’s Choice Award. \nWhether you’re finding gifts\, enjoying holiday treats\, taking carriage rides\, or meeting Santa\, Palmark Christmas offers a warm and welcoming way to celebrate the season and make memories with family and neighbors right in the heart of Palmer.
URL:https://washingtoncountyksed.com/event/palmark-christmas/2025-12-07/
CATEGORIES:Palmark Christmas
ATTACH;FMTTYPE=image/jpeg:https://washingtoncountyksed.com/wp-content/uploads/2025/10/Palmark-Christmas.jpg
END:VEVENT
BEGIN:VEVENT
DTSTART;VALUE=DATE:20251206
DTEND;VALUE=DATE:20251207
DTSTAMP:20260420T192210
CREATED:20250508T071428Z
LAST-MODIFIED:20260114T201614Z
UID:10000075-1764979200-1765065599@washingtoncountyksed.com
SUMMARY:Santas Gifts & Goodies
DESCRIPTION:Santa’s Gifts & Goodies — Washington\, Kansas \nSanta’s Gifts & Goodies is a festive\, all-ages holiday event held each first Saturday in December in Washington\, Kansas. This seasonal celebration offers a wonderful way for families and friends to enjoy the magic of the holidays while supporting local businesses and community spirit. \nThroughout the day\, the streets and venues of Washington are filled with craft vendors\, local businesses hosting open houses\, and unique holiday shopping opportunities — perfect for finding special gifts and goodies for everyone on your list. Adventurers can “weave through Washington” visiting multiple locations that showcase handmade items\, holiday treats\, and creative crafts. \nNo holiday celebration in Washington would be complete without a stop for a Lions Club pancake feed\, a beloved tradition that draws locals together over delicious breakfast favorites. Later in the afternoon\, Santa Claus makes a cheerful appearance\, greeting families and adding extra holiday magic to the festivities. \nWhether you’re checking items off your Christmas list\, enjoying seasonal food and treats\, or just soaking up the warm community atmosphere\, Santa’s Gifts & Goodies is a cherished way to kick off the holiday season in Washington.
URL:https://washingtoncountyksed.com/event/santas-gifts-goodies/2025-12-06/
CATEGORIES:Santas Gifts & Goodies
ATTACH;FMTTYPE=image/png:https://washingtoncountyksed.com/wp-content/uploads/2025/10/Santas-Gifts-Goodies.png
END:VEVENT
BEGIN:VEVENT
DTSTART;TZID=America/Chicago:20251129T080000
DTEND;TZID=America/Chicago:20251129T170000
DTSTAMP:20260420T192210
CREATED:20251004T145101Z
LAST-MODIFIED:20260114T201310Z
UID:10000074-1764403200-1764435600@washingtoncountyksed.com
SUMMARY:Barnes Lighted Horse Parade
DESCRIPTION:Barnes Lighted Horse Parade — Barnes\, Kansas \nThe Barnes Lighted Horse Parade is a beloved annual holiday tradition held in the small community of Barnes\, Kansas\, each Saturday evening following Thanksgiving. What began more than 20 years ago as a modest gathering of just a handful of riders has grown into a festive event that draws families\, neighbors\, and visitors to downtown Barnes to kick off the holiday season with charm and cheer. \nThe parade features horses and carriages adorned with holiday lights and decorations\, creating a magical evening as they wind through the town streets after dusk. Before the parade begins\, festivities often include a soup supper at the local firehouse\, free carriage rides\, visits with Santa at the Hometown Café\, and hot beverages like coffee and cocoa from local vendors — making it a full evening of community fun. \nOver the years\, the event has become more than just a parade of illuminated horses; it’s a celebration of small-town spirit and togetherness. Each year’s festivities may also include special dedications or community fundraisers tied to local causes\, highlighting the caring and close-knit nature of Barnes. \nWhether you’re there for the twinkling lights\, the warm community atmosphere\, or the unique sight of horses aglow at night\, the Barnes Lighted Horse Parade offers a memorable start to the holiday season in northeast Kansas.
URL:https://washingtoncountyksed.com/event/barnes-lighted-horse-parade/
ATTACH;FMTTYPE=image/jpeg:https://washingtoncountyksed.com/wp-content/uploads/2025/10/Barnes-Lighted-Horse-Parade.jpg
END:VEVENT
BEGIN:VEVENT
DTSTART;VALUE=DATE:20250920
DTEND;VALUE=DATE:20250921
DTSTAMP:20260420T192210
CREATED:20250508T071015Z
LAST-MODIFIED:20260114T200539Z
UID:10000028-1758326400-1758412799@washingtoncountyksed.com
SUMMARY:Washington Fall Fest
DESCRIPTION:Washington Fall Fest — Washington\, Kansas \nWashington Fall Fest is a lively fall community celebration held each September in Washington\, Kansas. This seasonal event brings together families\, car enthusiasts\, and community members for a day of autumn fun\, classic cars\, friendly activities\, and small-town charm. \nOne of the centerpiece attractions is the Fall Fest Car & Truck Show\, where vintage and modern vehicles line the streets around downtown Washington for visitors to admire. Participants can register their cars\, enjoy friendly competition across multiple classes\, and take part in fun prize drawings. \nBeyond the car show\, the festival offers food vendors\, kid-friendly activities like inflatables and games\, raffles\, and other fall-themed fun. With something for all ages\, Fall Fest captures the seasonal spirit and brings the community together for a memorable day celebrating autumn in northeast Kansas.
URL:https://washingtoncountyksed.com/event/washington-fall-fest/
LOCATION:Washington County\, 214 C St\, Washington\, KS\, 66968\, United States
CATEGORIES:Fall Fest
END:VEVENT
BEGIN:VEVENT
DTSTART;VALUE=DATE:20250919
DTEND;VALUE=DATE:20250922
DTSTAMP:20260420T192210
CREATED:20250508T071132Z
LAST-MODIFIED:20260114T200831Z
UID:10000057-1758240000-1758499199@washingtoncountyksed.com
SUMMARY:Highway 36 Treasure Hunt
DESCRIPTION:Highway 36 Garage Sales / Treasure Hunt — Kansas \nThe Highway 36 Garage Sales\, also known as the Highway 36 Treasure Hunt\, is a popular annual fall event that turns U.S. Highway 36 into one of the biggest roadside shopping experiences in Kansas. Held every third weekend in September\, this unique treasure hunt stretches over 400 miles across northern Kansas\, linking dozens of towns from Elwood to St. Francis in a massive series of antique\, estate\, and garage sales. \nOver the course of a weekend—typically Thursday through Saturday—shoppers and bargain hunters follow maps published for participating communities to find sales filled with antiques\, collectibles\, household goods\, vintage items\, tools\, décor\, and other hidden gems. Maps and Google-mapped sale locations are made available starting Mid – September\, helping visitors plan their route and discover treasures from small towns along the highway. \nBeyond the thrill of the hunt\, the event also showcases the charm of Kansas’s rural communities. Each participating town joins in the fun\, providing visitors with opportunities to explore local shops\, historic sites\, eateries\, and community personalities along the scenic U.S.-36 corridor. \nWhether you’re a seasoned collector\, a weekend browser\, or a road-trip enthusiast\, the Highway 36 Garage Sales offer a memorable autumn adventure through the heart of small-town Kansas.
URL:https://washingtoncountyksed.com/event/highway-36-treasure-hunt/2025-09-19/
CATEGORIES:Highway 36 Treasure Hunt
ATTACH;FMTTYPE=image/jpeg:https://washingtoncountyksed.com/wp-content/uploads/2025/05/HWY-36.jpg
END:VEVENT
BEGIN:VEVENT
DTSTART;VALUE=DATE:20250830
DTEND;VALUE=DATE:20250902
DTSTAMP:20260420T192210
CREATED:20250508T070914Z
LAST-MODIFIED:20250918T041147Z
UID:10000048-1756512000-1756771199@washingtoncountyksed.com
SUMMARY:Palmer Labor Day
DESCRIPTION:Held annually on Labor Day weekend in Palmer. This event boasts one of the most competitive coed softball tournaments around. Other activities include fishing tournament\, gun show\, food trucks\, live music and a parade. \nFacebook: https://www.facebook.com/palmer.laborday
URL:https://washingtoncountyksed.com/event/palmer-labor-day/
CATEGORIES:Palmer Labor Day
END:VEVENT
BEGIN:VEVENT
DTSTART;VALUE=DATE:20250816
DTEND;VALUE=DATE:20250817
DTSTAMP:20260420T192210
CREATED:20250508T064528Z
LAST-MODIFIED:20260114T195249Z
UID:10000021-1755302400-1755388799@washingtoncountyksed.com
SUMMARY:Barnes Junque Fest
DESCRIPTION:Barnes Junque Fest — Barnes\, Kansas \nThe Barnes Junque Fest is a beloved annual summer event held in the tiny village of Barnes in Washington County\, Kansas. Each year on the third Saturday in August\, this festival invites treasure hunters\, bargain seekers\, and community members to explore a lively day of shopping\, food\, and friendly small-town hospitality. \nAt Junque Fest\, visitors can browse a mix of city-wide garage sales\, outdoor vendor booths\, and local specialty shops offering antiques\, collectibles\, vintage goods\, and other “junque” finds — those quirky treasures and hidden gems that make flea markets so much fun. The event often spills into I.O.O.F. Park\, where people enjoy the relaxed atmosphere\, meet neighbors and visitors alike\, and take in the historic charm of Barnes. \nWhether you’re hunting for that perfect vintage piece\, grabbing a bite from local food vendors\, or simply soaking up the community spirit\, Barnes Junque Fest captures the heart of rural Kansas summer festivities and offers a memorable day for all ages.
URL:https://washingtoncountyksed.com/event/barnes-junque-fest/2025-08-16/
CATEGORIES:Barnes Junque Fest
ATTACH;FMTTYPE=image/png:https://washingtoncountyksed.com/wp-content/uploads/2025/10/Antique-Junque-Fest.png
END:VEVENT
END:VCALENDAR